BEGIN:VCALENDAR
VERSION:2.0
PRODID:-//ddaysoftware.com//NONSGML DDay.iCal 1.0//EN
BEGIN:VTIMEZONE
TZID:W. Europe Standard Time
BEGIN:STANDARD
DTSTART:20251002T030000
RRULE:FREQ=YEARLY;BYDAY=-1SU;BYHOUR=3;BYMINUTE=0;BYMONTH=10
TZNAME:W. Europe Standard Time
TZOFFSETFROM:+0200
TZOFFSETTO:+0100
END:STANDARD
BEGIN:DAYLIGHT
DTSTART:20250301T020000
RRULE:FREQ=YEARLY;BYDAY=-1SU;BYHOUR=2;BYMINUTE=0;BYMONTH=3
TZNAME:W. Europe Daylight Time
TZOFFSETFROM:+0100
TZOFFSETTO:+0200
END:DAYLIGHT
END:VTIMEZONE
BEGIN:VEVENT
CATEGORIES:Familien
CATEGORIES:Senioren
CATEGORIES:Kinder
DESCRIPTION:Bei „Weihnachten im Schuhkarton“\, einer Geschenkaktion der chr
 istlichen Hilfsorganisation Samaritan’s Purse\, kann jeder mitmachen und e
 inem bedürftigen Kind damit Wertschätzung und Freude entgegen bringen - ga
 nz nach dem Motto Liebe lässt sich einpacken.\n\nVeranstalter: Kulturkreis
  Nauen e.V.\n\nhttps://www.nauen.de/leben-arbeiten/kultur/veranstaltungska
 lender/weihnachten-im-schuhkarton-2026/
DTEND:20261123T000000
DTSTAMP:20260422T062030Z
DTSTART;VALUE=DATE:20261109
LOCATION:Richart-Hof: Gartenstraße 27\, 14641 Nauen
SEQUENCE:0
SUMMARY:Weihnachten im Schuhkarton 2026 - Abgabe bis 23.11.26
UID:16768
URL:https://www.nauen.de/leben-arbeiten/kultur/veranstaltungskalender/weihn
 achten-im-schuhkarton-2026/
END:VEVENT
END:VCALENDAR
