BEGIN:VCALENDAR
VERSION:2.0
PRODID:-//ddaysoftware.com//NONSGML DDay.iCal 1.0//EN
BEGIN:VTIMEZONE
TZID:W. Europe Standard Time
BEGIN:STANDARD
DTSTART:20251002T030000
RRULE:FREQ=YEARLY;BYDAY=-1SU;BYHOUR=3;BYMINUTE=0;BYMONTH=10
TZNAME:W. Europe Standard Time
TZOFFSETFROM:+0200
TZOFFSETTO:+0100
END:STANDARD
BEGIN:DAYLIGHT
DTSTART:20250301T020000
RRULE:FREQ=YEARLY;BYDAY=-1SU;BYHOUR=2;BYMINUTE=0;BYMONTH=3
TZNAME:W. Europe Daylight Time
TZOFFSETFROM:+0100
TZOFFSETTO:+0200
END:DAYLIGHT
END:VTIMEZONE
BEGIN:VEVENT
CATEGORIES:Senioren
CATEGORIES:Erwachsene
CATEGORIES:Tanzen
CATEGORIES:Musik / Konzerte
DESCRIPTION:Während es draußen grau und kalt ist\, wird es bei uns heiß!\n\
 nVeranstalter: Café Mediterrano\n\nhttps://www.nauen.de/leben-arbeiten/kul
 tur/veranstaltungskalender/24042026-tango-clandestino-im-café-mediterrano-
 jeden-freitag/
DTEND:20260424T180000
DTSTAMP:20260421T154401Z
DTSTART:20260424T170000
LOCATION:Café Mediterrano: Berliner Str. 7C\, 14641 Nauen
SEQUENCE:0
SUMMARY: Tango Clandestino im Café Mediterrano
UID:19204
URL:https://www.nauen.de/leben-arbeiten/kultur/veranstaltungskalender/24042
 026-tango-clandestino-im-café-mediterrano-jeden-freitag/
END:VEVENT
BEGIN:VEVENT
CATEGORIES:Senioren
CATEGORIES:Erwachsene
CATEGORIES:Tanzen
CATEGORIES:Musik / Konzerte
DESCRIPTION:Während es draußen grau und kalt ist\, wird es bei uns heiß!\n\
 nVeranstalter: Café Mediterrano\n\nhttps://www.nauen.de/leben-arbeiten/kul
 tur/veranstaltungskalender/01052026-tango-clandestino-im-café-mediterrano-
 jeden-freitag/
DTEND:20260501T180000
DTSTAMP:20260421T154401Z
DTSTART:20260501T170000
LOCATION:Café Mediterrano: Berliner Str. 7C\, 14641 Nauen
SEQUENCE:0
SUMMARY: Tango Clandestino im Café Mediterrano
UID:19207
URL:https://www.nauen.de/leben-arbeiten/kultur/veranstaltungskalender/01052
 026-tango-clandestino-im-café-mediterrano-jeden-freitag/
END:VEVENT
BEGIN:VEVENT
CATEGORIES:Senioren
CATEGORIES:Erwachsene
CATEGORIES:Tanzen
CATEGORIES:Musik / Konzerte
DESCRIPTION:Während es draußen grau und kalt ist\, wird es bei uns heiß!\n\
 nVeranstalter: Café Mediterrano\n\nhttps://www.nauen.de/leben-arbeiten/kul
 tur/veranstaltungskalender/08052026-tango-clandestino-im-café-mediterrano-
 jeden-freitag/
DTEND:20260508T180000
DTSTAMP:20260421T154401Z
DTSTART:20260508T170000
LOCATION:Café Mediterrano: Berliner Str. 7C\, 14641 Nauen
SEQUENCE:0
SUMMARY: Tango Clandestino im Café Mediterrano
UID:19208
URL:https://www.nauen.de/leben-arbeiten/kultur/veranstaltungskalender/08052
 026-tango-clandestino-im-café-mediterrano-jeden-freitag/
END:VEVENT
BEGIN:VEVENT
CATEGORIES:Musik / Konzerte
CATEGORIES:Erwachsene
DESCRIPTION:\n\nVeranstalter: URST Events\n\nhttps://www.nauen.de/leben-arb
 eiten/kultur/veranstaltungskalender/09052026-right-now-live-am-angelteich-
 im-winkel/
DTEND:20260509T200000
DTSTAMP:20260421T154401Z
DTSTART:20260509T190000
LOCATION:Angelteich im Winkel: Am Speicherbecken 1\, 14641 Nauen OT Markee
SEQUENCE:0
SUMMARY:Right Now LIVE am Angelteich im Winkel
UID:19364
URL:https://www.nauen.de/leben-arbeiten/kultur/veranstaltungskalender/09052
 026-right-now-live-am-angelteich-im-winkel/
END:VEVENT
BEGIN:VEVENT
CATEGORIES:Senioren
CATEGORIES:Erwachsene
CATEGORIES:Tanzen
CATEGORIES:Musik / Konzerte
DESCRIPTION:Während es draußen grau und kalt ist\, wird es bei uns heiß!\n\
 nVeranstalter: Café Mediterrano\n\nhttps://www.nauen.de/leben-arbeiten/kul
 tur/veranstaltungskalender/15052026-tango-clandestino-im-café-mediterrano-
 jeden-freitag/
DTEND:20260515T180000
DTSTAMP:20260421T154401Z
DTSTART:20260515T170000
LOCATION:Café Mediterrano: Berliner Str. 7C\, 14641 Nauen
SEQUENCE:0
SUMMARY: Tango Clandestino im Café Mediterrano
UID:19206
URL:https://www.nauen.de/leben-arbeiten/kultur/veranstaltungskalender/15052
 026-tango-clandestino-im-café-mediterrano-jeden-freitag/
END:VEVENT
BEGIN:VEVENT
CATEGORIES:Familien
CATEGORIES:Jugendliche
CATEGORIES:Jungen
CATEGORIES:Kinder
CATEGORIES:Kleinkinder
CATEGORIES:Musik / Konzerte
CATEGORIES:Mädchen
CATEGORIES:Schule
CATEGORIES:Schulen
CATEGORIES:Senioren
CATEGORIES:Sonstige
CATEGORIES:Tanzen
CATEGORIES:Theater / Kabarett
DESCRIPTION:„Rumpelstilzchens Glück“: Ein märchenhaftes Kindermusical\n\nVe
 ranstalter: Leonardo Da Vinci Campus Nauen\n\nhttps://www.nauen.de/leben-a
 rbeiten/kultur/veranstaltungskalender/11062026-campusmusical-rumpelstilzch
 ens-glueck-premiere/
DTEND:20260611T170000
DTSTAMP:20260421T154401Z
DTSTART:20260611T160000
LOCATION:Leonardo Da Vinci Campus Nauen\, Theatersaal (Haus 13): Alfred-Nob
 el-Straße 10\, 14641 Nauen
SEQUENCE:0
SUMMARY:Campusmusical „Rumpelstilzchens Glück“ - Premiere
UID:19616
URL:https://www.nauen.de/leben-arbeiten/kultur/veranstaltungskalender/11062
 026-campusmusical-rumpelstilzchens-glueck-premiere/
END:VEVENT
BEGIN:VEVENT
CATEGORIES:Musik / Konzerte
CATEGORIES:Erwachsene
DESCRIPTION:Mit Nora Louisa - Große Comeback Show...\n\nVeranstalter: URST 
 Events\n\nhttps://www.nauen.de/leben-arbeiten/kultur/veranstaltungskalende
 r/13062026-havellaender-schlager-nacht/
DTEND:20260613T200000
DTSTAMP:20260421T154401Z
DTSTART:20260613T190000
LOCATION:Freilichtbühne Nauen: Parkstraße 40\, 14641 Nauen
SEQUENCE:0
SUMMARY:Havelländer Schlager Nacht
UID:19367
URL:https://www.nauen.de/leben-arbeiten/kultur/veranstaltungskalender/13062
 026-havellaender-schlager-nacht/
END:VEVENT
BEGIN:VEVENT
CATEGORIES:Familien
CATEGORIES:Jugendliche
CATEGORIES:Jungen
CATEGORIES:Kinder
CATEGORIES:Kleinkinder
CATEGORIES:Kunst
CATEGORIES:Musik / Konzerte
CATEGORIES:Mädchen
CATEGORIES:Schule
CATEGORIES:Schulen
CATEGORIES:Senioren
CATEGORIES:Sonstige
CATEGORIES:Tanzen
CATEGORIES:Theater / Kabarett
DESCRIPTION:„Rumpelstilzchens Glück“: Ein märchenhaftes Kindermusical\n\nVe
 ranstalter: Leonardo Da Vinci Campus Nauen\n\nhttps://www.nauen.de/leben-a
 rbeiten/kultur/veranstaltungskalender/13062026-campusmusical-rumpelstilzch
 ens-glueck/
DTEND:20260613T160000
DTSTAMP:20260421T154401Z
DTSTART:20260613T150000
LOCATION:Leonardo Da Vinci Campus Nauen\, Theatersaal (Haus 13): Alfred-Nob
 el-Straße 10\, 14641 Nauen
SEQUENCE:0
SUMMARY:Campusmusical „Rumpelstilzchens Glück“
UID:19615
URL:https://www.nauen.de/leben-arbeiten/kultur/veranstaltungskalender/13062
 026-campusmusical-rumpelstilzchens-glueck/
END:VEVENT
BEGIN:VEVENT
CATEGORIES:Erwachsene
CATEGORIES:Feste / Brauchtum
CATEGORIES:Senioren
CATEGORIES:Musik / Konzerte
CATEGORIES:Jugendliche
CATEGORIES:Familien
DESCRIPTION:\n\nVeranstalter: Stadt Nauen\n\nhttps://www.nauen.de/leben-arb
 eiten/kultur/veranstaltungskalender/21062026-fête-de-la-musique/
DTEND;VALUE=DATE:20260622
DTSTAMP:20260421T154401Z
DTSTART;VALUE=DATE:20260621
LOCATION:Martin-Luther-Platz: Lutherplatz\, 14641 Nauen
SEQUENCE:0
SUMMARY:Fête de la Musique
UID:19176
URL:https://www.nauen.de/leben-arbeiten/kultur/veranstaltungskalender/21062
 026-fête-de-la-musique/
END:VEVENT
BEGIN:VEVENT
CATEGORIES:Musik / Konzerte
CATEGORIES:Kinder
CATEGORIES:Jugendliche
CATEGORIES:Senioren
CATEGORIES:Familien
CATEGORIES:Erwachsene
DESCRIPTION:Mitmach-Konzert "Mitsingen und Mittanzen" erwünscht\n\nVeransta
 lter: TOBO Veranstaltungsservice\n\nhttps://www.nauen.de/leben-arbeiten/ku
 ltur/veranstaltungskalender/28062026-erste-grosse-xxl-familien-disco-in-na
 uen/
DTEND:20260628T150000
DTSTAMP:20260421T154401Z
DTSTART:20260628T140000
LOCATION:Freilichtbühne Nauen: Parkstraße 40\, 14641 Nauen
SEQUENCE:0
SUMMARY:Erste große XXL Familien Disco in Nauen
UID:19412
URL:https://www.nauen.de/leben-arbeiten/kultur/veranstaltungskalender/28062
 026-erste-grosse-xxl-familien-disco-in-nauen/
END:VEVENT
BEGIN:VEVENT
CATEGORIES:Musik / Konzerte
DESCRIPTION:\n\nVeranstalter: URST Events\n\nhttps://www.nauen.de/leben-arb
 eiten/kultur/veranstaltungskalender/04072026-secret-water-open-air-der-zau
 ber-kehrt-zurueck/
DTEND:20260704T190000
DTSTAMP:20260421T154401Z
DTSTART:20260704T180000
LOCATION:Angelteich im Winkel: Am Speicherbecken 1\, 14641 Nauen OT Markee
SEQUENCE:0
SUMMARY:Secret Water Open Air- Der Zauber kehrt zurück
UID:19368
URL:https://www.nauen.de/leben-arbeiten/kultur/veranstaltungskalender/04072
 026-secret-water-open-air-der-zauber-kehrt-zurueck/
END:VEVENT
BEGIN:VEVENT
CATEGORIES:Musik / Konzerte
DESCRIPTION:Chorkonzert mit "Salto Tonale"\n\nVeranstalter: Kulturverein Ri
 bbeck e.V.\n\nhttps://www.nauen.de/leben-arbeiten/kultur/veranstaltungskal
 ender/05072026-sommer-chorkonzert-mit-salto-tonale/
DTEND:20260705T170000
DTSTAMP:20260421T154401Z
DTSTART:20260705T160000
LOCATION:Kulturscheune Ribbeck: Am Birnbaum 1\, 14641 Nauen OT Ribbeck
SEQUENCE:0
SUMMARY:Sommer-Chorkonzert mit Salto Tonale
UID:19650
URL:https://www.nauen.de/leben-arbeiten/kultur/veranstaltungskalender/05072
 026-sommer-chorkonzert-mit-salto-tonale/
END:VEVENT
BEGIN:VEVENT
CATEGORIES:Erwachsene
CATEGORIES:Musik / Konzerte
DESCRIPTION:Ensemble musica cubicularis zu Gast in der Kirche Markau\n\nVer
 anstalter: Havelländische Musikfestspiele gGmbH\n\nhttps://www.nauen.de/le
 ben-arbeiten/kultur/veranstaltungskalender/11072026-mad-songs-englische-li
 eder-von-liebe-eifersucht-und-wahnsinn-ensemble-musica-cubicularis-zu-gast
 -in-der-kirche-markau/
DTEND:20260711T160000
DTSTAMP:20260421T154401Z
DTSTART:20260711T150000
LOCATION:Kirche St. Nikolai Markau: Markauer Hauptstraße 8\, 14641 Nauen
SEQUENCE:0
SUMMARY:Mad Songs - Englische Lieder von Liebe\, Eifersucht und Wahnsinn -
UID:19453
URL:https://www.nauen.de/leben-arbeiten/kultur/veranstaltungskalender/11072
 026-mad-songs-englische-lieder-von-liebe-eifersucht-und-wahnsinn-ensemble-
 musica-cubicularis-zu-gast-in-der-kirche-markau/
END:VEVENT
BEGIN:VEVENT
CATEGORIES:Musik / Konzerte
CATEGORIES:Erwachsene
DESCRIPTION:\n\nVeranstalter: URST Events\n\nhttps://www.nauen.de/leben-arb
 eiten/kultur/veranstaltungskalender/18072026-onkelz-nacht/
DTEND:20260718T200000
DTSTAMP:20260421T154401Z
DTSTART:20260718T190000
LOCATION:Freilichtbühne Nauen: Parkstraße 40\, 14641 Nauen
SEQUENCE:0
SUMMARY:Onkelz Nacht auf der Freilichtbühne Nauen
UID:19363
URL:https://www.nauen.de/leben-arbeiten/kultur/veranstaltungskalender/18072
 026-onkelz-nacht/
END:VEVENT
BEGIN:VEVENT
CATEGORIES:Erwachsene
CATEGORIES:Senioren
CATEGORIES:Musik / Konzerte
DESCRIPTION:\n\nVeranstalter: Stadt Nauen\n\nhttps://www.nauen.de/leben-arb
 eiten/kultur/veranstaltungskalender/14062026-jazz-im-richie/
DTEND;VALUE=DATE:20260801
DTSTAMP:20260421T154401Z
DTSTART;VALUE=DATE:20260731
LOCATION:Richart-Hof: Gartenstraße 27\, 14641 Nauen
SEQUENCE:0
SUMMARY:Jazz im Richie
UID:19173
URL:https://www.nauen.de/leben-arbeiten/kultur/veranstaltungskalender/14062
 026-jazz-im-richie/
END:VEVENT
BEGIN:VEVENT
CATEGORIES:Erwachsene
CATEGORIES:Musik / Konzerte
DESCRIPTION:STEREOACT & Lena Marie Engel und Sebastian Hämer\n\nVeranstalte
 r: Schloss Ribbeck\n\nhttps://www.nauen.de/leben-arbeiten/kultur/veranstal
 tungskalender/05092026-open-air-megaparty/
DTEND:20260905T200000
DTSTAMP:20260421T154401Z
DTSTART:20260905T190000
LOCATION:Schloss Ribbeck: Theodor-Fontane-Straße 10\, 14641  Nauen
SEQUENCE:0
SUMMARY:Open Air „Megaparty“
UID:19392
URL:https://www.nauen.de/leben-arbeiten/kultur/veranstaltungskalender/05092
 026-open-air-megaparty/
END:VEVENT
BEGIN:VEVENT
CATEGORIES:Erwachsene
CATEGORIES:Lesung / Vorträge
CATEGORIES:Musik / Konzerte
DESCRIPTION:Eine Konzertlesung über das\, was Menschen immer Meer bewegt ..
 .\n\nVeranstalter: Havelländische Musikfestspiele gGmbH\n\nhttps://www.nau
 en.de/leben-arbeiten/kultur/veranstaltungskalender/13092026-konzertlesung-
 der-alte-klang-das-meer/
DTEND:20260913T170000
DTSTAMP:20260421T154401Z
DTSTART:20260913T160000
LOCATION:Schloss Ribbeck: Theodor-Fontane-Straße 10\, 14641  Nauen
SEQUENCE:0
SUMMARY:Konzertlesung «Der alte Klang & das Meer»
UID:19449
URL:https://www.nauen.de/leben-arbeiten/kultur/veranstaltungskalender/13092
 026-konzertlesung-der-alte-klang-das-meer/
END:VEVENT
BEGIN:VEVENT
CATEGORIES:Erwachsene
CATEGORIES:Musik / Konzerte
DESCRIPTION:mit Lutz Gerlach & Ulrike Mai - von Klassik bis Jazz Werke von 
 Bach\, Chopin bis Brubeck\, Kurt W\n\nVeranstalter: Havelländische Musikfe
 stspiele gGmbH\n\nhttps://www.nauen.de/leben-arbeiten/kultur/veranstaltung
 skalender/10102026-sternstunden-der-musikgeschichte-mit-lutz-gerlach-ulrik
 e-mai-von-klassik-bis-jazz-werke-von-bach-chopin-bis-brubeck-kurt-w/
DTEND:20261010T170000
DTSTAMP:20260421T154401Z
DTSTART:20261010T160000
LOCATION:Schloss Ribbeck: Theodor-Fontane-Straße 10\, 14641  Nauen
SEQUENCE:0
SUMMARY:Sternstunden der Musikgeschichte 
UID:19445
URL:https://www.nauen.de/leben-arbeiten/kultur/veranstaltungskalender/10102
 026-sternstunden-der-musikgeschichte-mit-lutz-gerlach-ulrike-mai-von-klass
 ik-bis-jazz-werke-von-bach-chopin-bis-brubeck-kurt-w/
END:VEVENT
BEGIN:VEVENT
CATEGORIES:Erwachsene
CATEGORIES:Musik / Konzerte
DESCRIPTION:Winnie Böwe\, Gesang - Salonorchester Unter’n Linden\n\nVeranst
 alter: Havelländische Musikfestspiele gGmbH\n\nhttps://www.nauen.de/leben-
 arbeiten/kultur/veranstaltungskalender/13102026-berliner-luft/
DTEND:20261013T160000
DTSTAMP:20260421T154401Z
DTSTART:20261013T150000
LOCATION:Schlossgarten Ribbeck: 14641 Nauen OT Ribbeck
SEQUENCE:0
SUMMARY:Berliner Luft - Open Air\, Schlossgarten Ribbeck
UID:19447
URL:https://www.nauen.de/leben-arbeiten/kultur/veranstaltungskalender/13102
 026-berliner-luft/
END:VEVENT
BEGIN:VEVENT
CATEGORIES:Erwachsene
CATEGORIES:Senioren
CATEGORIES:Musik / Konzerte
CATEGORIES:Familien
DESCRIPTION:International bekannte Weihnachtsmusik\n\nVeranstalter: Stadt N
 auen\n\nhttps://www.nauen.de/leben-arbeiten/kultur/veranstaltungskalender/
 17122026-weihnachtskonzert-squeezebox-teddy/
DTEND:20261217T170000
DTSTAMP:20260421T154401Z
DTSTART:20261217T160000
LOCATION:Richart-Hof: Gartenstraße 27\, 14641 Nauen
SEQUENCE:0
SUMMARY:Squeezebox Teddy im Richart-Hof
UID:19174
URL:https://www.nauen.de/leben-arbeiten/kultur/veranstaltungskalender/17122
 026-weihnachtskonzert-squeezebox-teddy/
END:VEVENT
END:VCALENDAR
