BEGIN:VCALENDAR
VERSION:2.0
PRODID:-//ddaysoftware.com//NONSGML DDay.iCal 1.0//EN
BEGIN:VTIMEZONE
TZID:W. Europe Standard Time
BEGIN:STANDARD
DTSTART:20251002T030000
RRULE:FREQ=YEARLY;BYDAY=-1SU;BYHOUR=3;BYMINUTE=0;BYMONTH=10
TZNAME:W. Europe Standard Time
TZOFFSETFROM:+0200
TZOFFSETTO:+0100
END:STANDARD
BEGIN:DAYLIGHT
DTSTART:20250301T020000
RRULE:FREQ=YEARLY;BYDAY=-1SU;BYHOUR=2;BYMINUTE=0;BYMONTH=3
TZNAME:W. Europe Daylight Time
TZOFFSETFROM:+0100
TZOFFSETTO:+0200
END:DAYLIGHT
END:VTIMEZONE
BEGIN:VEVENT
CATEGORIES:Theater / Kabarett
DESCRIPTION:Theater in der Gutsscheune\n\nVeranstalter: Kulturverein Ribbec
 k e.V.\n\nhttps://www.nauen.de/leben-arbeiten/kultur/veranstaltungskalende
 r/13062026-die-ueberquerung-des-niagara/
DTEND:20260614T000000
DTSTAMP:20260421T142247Z
DTSTART:20260613T193000
LOCATION:Kulturscheune Ribbeck: Am Birnbaum 1\, 14641 Nauen OT Ribbeck
SEQUENCE:0
SUMMARY:Die Überquerung des Niagara - von Alonso Alegría - eine theater.lan
 d-Produktion
UID:19659
URL:https://www.nauen.de/leben-arbeiten/kultur/veranstaltungskalender/13062
 026-die-ueberquerung-des-niagara/
END:VEVENT
END:VCALENDAR
