BEGIN:VCALENDAR
VERSION:2.0
PRODID:-//ddaysoftware.com//NONSGML DDay.iCal 1.0//EN
BEGIN:VTIMEZONE
TZID:W. Europe Standard Time
BEGIN:STANDARD
DTSTART:20251002T030000
RRULE:FREQ=YEARLY;BYDAY=-1SU;BYHOUR=3;BYMINUTE=0;BYMONTH=10
TZNAME:W. Europe Standard Time
TZOFFSETFROM:+0200
TZOFFSETTO:+0100
END:STANDARD
BEGIN:DAYLIGHT
DTSTART:20250301T020000
RRULE:FREQ=YEARLY;BYDAY=-1SU;BYHOUR=2;BYMINUTE=0;BYMONTH=3
TZNAME:W. Europe Daylight Time
TZOFFSETFROM:+0100
TZOFFSETTO:+0200
END:DAYLIGHT
END:VTIMEZONE
BEGIN:VEVENT
CATEGORIES:Theater / Kabarett
DESCRIPTION:Pantomime\n\nVeranstalter: Theater der Frische\n\nhttps://www.n
 auen.de/leben-arbeiten/kultur/veranstaltungskalender/03052026-pantomime-we
 rkstattaufuehrung/
DTEND:20260503T180000
DTSTAMP:20260421T115601Z
DTSTART:20260503T170000
LOCATION:Theater der Frische: Am Birnbaum 7\, 14641 Ribbeck
SEQUENCE:0
SUMMARY:Pantomime - Werkstattauführung
UID:19649
URL:https://www.nauen.de/leben-arbeiten/kultur/veranstaltungskalender/03052
 026-pantomime-werkstattaufuehrung/
END:VEVENT
END:VCALENDAR
